BEGIN:VCALENDAR
VERSION:2.0
PRODID:-//ChamberMaster//Event Calendar 2.0//EN
METHOD:PUBLISH
X-PUBLISHED-TTL:P3D
REFRESH-INTERVAL:P3D
CALSCALE:GREGORIAN
BEGIN:VEVENT
DTSTART:20221018T000000Z
DTEND:20221018T013000Z
X-MICROSOFT-CDO-ALLDAYEVENT:FALSE
SUMMARY:Advanced Excel Part 1
DESCRIPTION:Harness the power of Excel with Formulas & Functions. This class will review simple to complex formulas including conditionals\, arrays\, VLOOKUP\, financial formulas\, and much more!
X-ALT-DESC;FMTTYPE=text/html:<div>\n<p>Harness the power of Excel with Formulas &amp\; Functions. This class will review simple to complex formulas including conditionals\, arrays\, VLOOKUP\, financial formulas\, and much more!&nbsp\;</p>\n\n<div>&nbsp\;</div>\n</div>\n
LOCATION:Wauconda Area Library - REGISTER by clicking here
UID:e.2057.12479
SEQUENCE:3
DTSTAMP:20260425T115008Z
URL:http://waucondachamber.chambermaster.com/events/details/advanced-excel-part-1-12479
END:VEVENT

END:VCALENDAR
