BEGIN:VCALENDAR
VERSION:2.0
PRODID:-//ChamberMaster//Event Calendar 2.0//EN
METHOD:PUBLISH
X-PUBLISHED-TTL:P3D
REFRESH-INTERVAL:P3D
CALSCALE:GREGORIAN
BEGIN:VEVENT
DTSTART:20230117T010000Z
DTEND:20230117T023000Z
X-MICROSOFT-CDO-ALLDAYEVENT:FALSE
SUMMARY:Buying a Computer
DESCRIPTION:Feel lost at the computer store? This class will tell you everything you need to know in order to buy the right computer for your needs. From Macs to PCs and laptops to desktops\, we'll tell you everything you need to look for.\n\nTO REGISTER CLICK HERE
X-ALT-DESC;FMTTYPE=text/html:<span style="font-family:poppins\,sans-serif\; font-size:16px">Feel lost at the computer store? This class will tell you everything you need to know in order to buy the right computer for your needs. From Macs to PCs and laptops to desktops\, we&rsquo\;ll tell you everything you need to look for.<br />\nTO REGISTER CLICK <a href="https://www.wauclib.org/event/buying-computer-person">HERE</a></span>
LOCATION:Wauconda Area Public Library 801 N. Main St. Wauconda IL\, 60084
UID:e.2057.12562
SEQUENCE:3
DTSTAMP:20260424T172348Z
URL:http://waucondachamber.chambermaster.com/events/details/buying-a-computer-12562
END:VEVENT

END:VCALENDAR
