BEGIN:VCALENDAR
VERSION:2.0
PRODID:-//ChamberMaster//Event Calendar 2.0//EN
METHOD:PUBLISH
X-PUBLISHED-TTL:P3D
REFRESH-INTERVAL:P3D
CALSCALE:GREGORIAN
BEGIN:VEVENT
DTSTART:20230317T133000Z
DTEND:20230317T173000Z
X-MICROSOFT-CDO-ALLDAYEVENT:FALSE
SUMMARY:Excel: Advanced
DESCRIPTION:Learn the advanced functions of Microsoft Excel including Sorting and Filtering\, creating Subtotals\, and generating PivotTables to summarize and analyze your data. Topics include:   Sorting and Filtering Data   Using Excel Tables to Organize Data   Using Subtotals   Summarizing Data with PivotTables
X-ALT-DESC;FMTTYPE=text/html:Learn the advanced functions of Microsoft Excel including Sorting and Filtering\, creating Subtotals\, and generating PivotTables to summarize and analyze your data. Topics include: &bull\; Sorting and Filtering Data &bull\; Using Excel Tables to Organize Data &bull\; Using Subtotals &bull\; Summarizing Data with PivotTables
LOCATION:Live Zoom
UID:e.2057.12675
SEQUENCE:3
DTSTAMP:20260422T145412Z
URL:http://waucondachamber.chambermaster.com/events/details/excel-advanced-12675
END:VEVENT

END:VCALENDAR
