BEGIN:VCALENDAR
VERSION:2.0
PRODID:-//ChamberMaster//Event Calendar 2.0//EN
METHOD:PUBLISH
X-PUBLISHED-TTL:P3D
REFRESH-INTERVAL:P3D
CALSCALE:GREGORIAN
BEGIN:VEVENT
DTSTART:20230221T190000Z
DTEND:20230221T203000Z
X-MICROSOFT-CDO-ALLDAYEVENT:FALSE
SUMMARY:Excel: Top 10 Essential Functions
DESCRIPTION:Excel functions can greatly enhance your ability to perform tasks in day to day activities in Excel. While there are hundreds of functions in available\, there are 10 functions that all Excel users should know. Join Cathy to learn these important functions. Whether you are an office worker\, or a small business owner using Excel to keep track of your finances or just the casual user\, these Excel functions can be very important time savers and enhance your ability to create better performing spreadsheets. You will learn not only HOW to use these functions\, but WHY they do what they do. Knowing the "why" helps you to do more with Excel.
X-ALT-DESC;FMTTYPE=text/html:Excel functions can greatly enhance your ability to perform tasks in day to day activities in Excel. While there are hundreds of functions in available\, there are 10 functions that all Excel users should know. Join Cathy to learn these important functions. Whether you are an office worker\, or a small business owner using Excel to keep track of your finances or just the casual user\, these Excel functions can be very important time savers and enhance your ability to create better performing spreadsheets. You will learn not only HOW to use these functions\, but WHY they do what they do. Knowing the &ldquo\;why&rdquo\; helps you to do more with Excel.
LOCATION:Live Zoom
UID:e.2057.12599
SEQUENCE:3
DTSTAMP:20260424T212114Z
URL:http://waucondachamber.chambermaster.com/events/details/excel-top-10-essential-functions-12599
END:VEVENT

END:VCALENDAR
