BEGIN:VCALENDAR
VERSION:2.0
PRODID:-//ChamberMaster//Event Calendar 2.0//EN
METHOD:PUBLISH
X-PUBLISHED-TTL:P3D
REFRESH-INTERVAL:P3D
CALSCALE:GREGORIAN
BEGIN:VEVENT
DTSTART:20221020T150000Z
DTEND:20221020T160000Z
X-MICROSOFT-CDO-ALLDAYEVENT:FALSE
SUMMARY:U.S. Export Controls & Building Effective Compliance Programs
DESCRIPTION:All parties to U.S. export transactions must ensure their exports fully comply with all statutory and regulatory requirements to avoid potential violations. Export control compliance is too important to be an afterthought. The best way to stay compliant is to develop an export compliance program that can provide a structure in place to protect your company and employees. Come join this one-hour webinar to learn first-hand from a subject matter expert about export control policies\, regulations and procedures to help your company minimize the risk of noncompliance. Topics include risk identification and mitigation\, commodity jurisdiction and classification\, restricted party screening and end-user controls\, licensing processes\, identifying red flags\, documenting compliance\, handling violations and investigations\, and best practices. Registration is required.
X-ALT-DESC;FMTTYPE=text/html:All parties to U.S. export transactions must ensure their exports fully comply with all statutory and regulatory requirements to avoid potential violations. Export control compliance is too important to be an afterthought. The best way to stay compliant is to develop an export compliance program that can provide a structure in place to protect your company and employees. Come join this one-hour webinar to learn first-hand from a subject matter expert about export control policies\, regulations and procedures to help your company minimize the risk of noncompliance. Topics include risk identification and mitigation\, commodity jurisdiction and classification\, restricted party screening and end-user controls\, licensing processes\, identifying red flags\, documenting compliance\, handling violations and investigations\, and best practices. Registration is required.
LOCATION:Virtual Live
UID:e.2057.11950
SEQUENCE:3
DTSTAMP:20260424T213321Z
URL:http://waucondachamber.chambermaster.com/events/details/u-s-export-controls-building-effective-compliance-programs-11950
END:VEVENT

END:VCALENDAR
